BEGIN:VCALENDAR
VERSION:2.0
PRODID:-//RBK Županja - ECPv6.15.20//NONSGML v1.0//EN
CALSCALE:GREGORIAN
METHOD:PUBLISH
X-WR-CALNAME:RBK Županja
X-ORIGINAL-URL:https://rbk-kotur.hr
X-WR-CALDESC:Događaji za RBK Županja
REFRESH-INTERVAL;VALUE=DURATION:PT1H
X-Robots-Tag:noindex
X-PUBLISHED-TTL:PT1H
BEGIN:VTIMEZONE
TZID:Europe/Paris
BEGIN:DAYLIGHT
TZOFFSETFROM:+0100
TZOFFSETTO:+0200
TZNAME:CEST
DTSTART:20250330T010000
END:DAYLIGHT
BEGIN:STANDARD
TZOFFSETFROM:+0200
TZOFFSETTO:+0100
TZNAME:CET
DTSTART:20251026T010000
END:STANDARD
BEGIN:DAYLIGHT
TZOFFSETFROM:+0100
TZOFFSETTO:+0200
TZNAME:CEST
DTSTART:20260329T010000
END:DAYLIGHT
BEGIN:STANDARD
TZOFFSETFROM:+0200
TZOFFSETTO:+0100
TZNAME:CET
DTSTART:20261025T010000
END:STANDARD
BEGIN:DAYLIGHT
TZOFFSETFROM:+0100
TZOFFSETTO:+0200
TZNAME:CEST
DTSTART:20270328T010000
END:DAYLIGHT
BEGIN:STANDARD
TZOFFSETFROM:+0200
TZOFFSETTO:+0100
TZNAME:CET
DTSTART:20271031T010000
END:STANDARD
END:VTIMEZONE
BEGIN:VEVENT
DTSTART;TZID=Europe/Paris:20260912T080000
DTEND;TZID=Europe/Paris:20260912T213000
DTSTAMP:20260421T222304
CREATED:20251207T203004Z
LAST-MODIFIED:20260415T060451Z
UID:1882-1789200000-1789248600@rbk-kotur.hr
SUMMARY:Poziv na Brevet Županja 200
DESCRIPTION:Pozivamo sve ljubitelje pedaliranja i izdržljivosti na Brevet Srijem 200\, biciklističku avanturu koja vas vodi kroz najljepše kutke naše županije. Krenite s nama iz Županje na putovanje dugo 200 kilometara\, od pitome Posavine\, preko mistične Cvelferije i Spačvanskih šuma\, pa sve do obala Dunava u Vukovaru i Iloku. Povratak nas vodi preko Vinkovaca i Cerne natrag do Županje\, čime povezujemo jug i istok naše regije u jednom dahu.\n     \n\n      Ova ruta nije samo sportski izazov\, već i prilika da doživite Rutu Srijem u njezinom punom sjaju. Bilo da ste iskusni brevetaš ili rekreativac koji želi testirati svoje granice\, osigurajte svoje mjesto na startu i budite dio vizije razvoja cikloturizma Vukovarsko-srijemske županije. Očekuju vas ravnice koje ne praštaju\, ali i nezaboravni vidici te zajedništvo koje samo ovakvi događaji mogu pružiti.\n     \n\n      Rutu smo već odvozili\, a ono što vas čeka pogledajte u teaseru:\n     \n \n\n\n      \n    \n \n\n⚠️ Napomena: Kaciga obavezna. Vozi se na vlastitu odgovornost.
URL:https://rbk-kotur.hr/dogadjaj/brevet-zupanja-200/
LOCATION:Caffe bar Vertigo ( Delboy )\, Strossmayerova 27\, Županja\, Vukovarsko-Srijemska\, 32270\, Croatia (Local Name: Hrvatska)
END:VEVENT
END:VCALENDAR